BEGIN:VCALENDAR
VERSION:2.0
PRODID:-//MY LIFE ESSENCE - ECPv6.15.20//NONSGML v1.0//EN
CALSCALE:GREGORIAN
METHOD:PUBLISH
X-WR-CALNAME:MY LIFE ESSENCE
X-ORIGINAL-URL:https://my-life-essence.com/?lang=en
X-WR-CALDESC:Events for MY LIFE ESSENCE
REFRESH-INTERVAL;VALUE=DURATION:PT1H
X-Robots-Tag:noindex
X-PUBLISHED-TTL:PT1H
BEGIN:VTIMEZONE
TZID:Europe/Berlin
BEGIN:DAYLIGHT
TZOFFSETFROM:+0100
TZOFFSETTO:+0200
TZNAME:CEST
DTSTART:20170326T010000
END:DAYLIGHT
BEGIN:STANDARD
TZOFFSETFROM:+0200
TZOFFSETTO:+0100
TZNAME:CET
DTSTART:20171029T010000
END:STANDARD
BEGIN:DAYLIGHT
TZOFFSETFROM:+0100
TZOFFSETTO:+0200
TZNAME:CEST
DTSTART:20180325T010000
END:DAYLIGHT
BEGIN:STANDARD
TZOFFSETFROM:+0200
TZOFFSETTO:+0100
TZNAME:CET
DTSTART:20181028T010000
END:STANDARD
BEGIN:DAYLIGHT
TZOFFSETFROM:+0100
TZOFFSETTO:+0200
TZNAME:CEST
DTSTART:20190331T010000
END:DAYLIGHT
BEGIN:STANDARD
TZOFFSETFROM:+0200
TZOFFSETTO:+0100
TZNAME:CET
DTSTART:20191027T010000
END:STANDARD
END:VTIMEZONE
BEGIN:VEVENT
DTSTART;TZID=Europe/Berlin:20181130T090000
DTEND;TZID=Europe/Berlin:20181130T140000
DTSTAMP:20260423T134608
CREATED:20181025T194053Z
LAST-MODIFIED:20181025T194223Z
UID:2832-1543568400-1543586400@my-life-essence.com
SUMMARY:HIGHER SELF WORKSHOP - Online Webinar
DESCRIPTION:HIGHER SELF WORKSHOP \n(you choose the date and the time) \nOpen the door to your Subconscious. Become Friends with your Ego and Enjoy Life without Limiting Beliefs or Attachments. \n  \nWith this method you will be able to connect with your Higher Self and develop a high level of Self-Love and Self-Belief. This will bring you the opportunity to access and remove old patterns and traumas\, which you might not even have been aware of\, but which are still limiting your inner and outer happiness. Experience your Higher Self to explore all the options and get YOUR truth from a higher perspective. Start creating and healing all areas of your Life together with your Soul and create pure Bliss! \n  \nEGO MASTERY \nEgo is a part of us and simply wants to be acknowledged – the more we push it away the stronger it comes back. Mastering your Ego means to talking to it and seeing what it is trying to do and how it is interfering in our life by creating all sorts of Limiting Beliefs. YOU should be in control of your life – not your Ego! \n  \nLIMITING BELIEFS & ATTACHMENTS \nOver the years Ego has constructed a whole false identity for you. Limiting Beliefs about what you can’t do and can’t achieve are holding you back from living up to your full potential\, destroying your Hopes and Dreams of the Life you deserve. You will get some efficient tools to clear yourself such patterns as “I am not worth it”\, “I am not good enough”\, “I will never be successful”\, etc – time to let it go! \n  \nANSWERS FROM YOUR HIGHER SELF \nOnce you’re mastering your ego and are aware of your Attachments you can easily and repeatedly access the realms of Consciousness\, Self-Love and Self-Belief. From here you can create and attract everything in your life that you wish for by removing Limiting Beliefs & Attachments and replacing them with YOUR Truth with the guidance of your Higher Self. No question will be left unanswered. \n  \nJoin me and take the chance to evolve to your next level of Beingness! \nMuch Love\, \nSue
URL:https://my-life-essence.com/event/higher-self-workshop/?lang=en
ATTACH;FMTTYPE=image/jpeg:https://my-life-essence.com/wp-content/uploads/2016/04/MyLifeEssence_WahresSelbst.jpg
END:VEVENT
END:VCALENDAR